BEGIN:VCALENDAR
VERSION:2.0
PRODID:-//Elemcee Consultancy - ECPv6.5.1.3//NONSGML v1.0//EN
CALSCALE:GREGORIAN
METHOD:PUBLISH
X-WR-CALNAME:Elemcee Consultancy
X-ORIGINAL-URL:https://elemceeconsultancy.com
X-WR-CALDESC:Events for Elemcee Consultancy
REFRESH-INTERVAL;VALUE=DURATION:PT1H
X-Robots-Tag:noindex
X-PUBLISHED-TTL:PT1H
BEGIN:VTIMEZONE
TZID:Europe/Moscow
BEGIN:STANDARD
TZOFFSETFROM:+0300
TZOFFSETTO:+0300
TZNAME:MSK
DTSTART:20240101T000000
END:STANDARD
END:VTIMEZONE
BEGIN:VEVENT
DTSTART;TZID=Europe/Moscow:20250506T150000
DTEND;TZID=Europe/Moscow:20250506T153000
DTSTAMP:20260419T165145
CREATED:20250611T135607Z
LAST-MODIFIED:20250611T135607Z
UID:5068-1746543600-1746545400@elemceeconsultancy.com
SUMMARY:Tuesday Talks at Three - Building Trust in Influence
DESCRIPTION:Episode 1 of the Conflict Resolution Series. \nDo you know that you can gain clarity on common causes and personal triggers to approach conflict with a proactive\, empathetic mindset that leads to meaningful resolution?
URL:https://elemceeconsultancy.com/event/tuesday-talks-at-three-building-trust-in-influence/
CATEGORIES:TuesdayTalksAtThree
ATTACH;FMTTYPE=image/jpeg:https://elemceeconsultancy.com/wp-content/uploads/2025/06/May-TTT-Ep-12.jpg
END:VEVENT
BEGIN:VEVENT
DTSTART;TZID=Europe/Moscow:20250414T110000
DTEND;TZID=Europe/Moscow:20250417T130000
DTSTAMP:20260419T165145
CREATED:20250128T145450Z
LAST-MODIFIED:20250325T180434Z
UID:5040-1744628400-1744894800@elemceeconsultancy.com
SUMMARY:Lady In Waiting - April 2025 Cohort
DESCRIPTION:Empower your Teenage (Age: 12-19)Daughter Today. \nAs parents and guardians\, we all want our daughters to grow into strong\, confident\, and self-aware young women—ready to face the world with grace and resilience. \nGive her the gift of self-discovery and lifelong skills by signing her up today. \n‘Gracefully Transitioning Into Society’ \n  \nhttps://forms.gle/CFPUYUzsNbWpYeiD8
URL:https://elemceeconsultancy.com/event/lady-in-waiting-april-2025-cohort/
LOCATION:iHiT Work Space Nairobi\, Mbaazi Road\, Nairobi\, 00508\, Kenya
CATEGORIES:Event
ATTACH;FMTTYPE=image/png:https://elemceeconsultancy.com/wp-content/uploads/2025/01/Lady-In-Waiting-April-2025.png
END:VEVENT
BEGIN:VEVENT
DTSTART;TZID=Europe/Moscow:20250208T100000
DTEND;TZID=Europe/Moscow:20250208T130000
DTSTAMP:20260419T165145
CREATED:20250128T143353Z
LAST-MODIFIED:20250128T150426Z
UID:5037-1739008800-1739019600@elemceeconsultancy.com
SUMMARY:Vision Board Party - enVISION YOU
DESCRIPTION:https://forms.gle/hq7Cw4h1qdVfGUBf7Goals without action are just wishes.\nStart small\, dream big\, and prioritize YOU! And celebrate success……..Step boldly into 2025 with focus and intention.\n👥Need help?\nJoin the last in-person Vision Board of the Season – the ‘enVISION YOU’ Program \nhttps://forms.gle/hq7Cw4h1qdVfGUBf7
URL:https://elemceeconsultancy.com/event/vision-board-party-envision-you/
LOCATION:iHiT Work Space Nairobi\, Mbaazi Road\, Nairobi\, 00508\, Kenya
CATEGORIES:Event
ATTACH;FMTTYPE=image/png:https://elemceeconsultancy.com/wp-content/uploads/2025/01/Vision-Board-Invite-.png
END:VEVENT
BEGIN:VEVENT
DTSTART;TZID=Europe/Moscow:20250114T193000
DTEND;TZID=Europe/Moscow:20250116T210000
DTSTAMP:20260419T165145
CREATED:20250107T185642Z
LAST-MODIFIED:20250107T185642Z
UID:5022-1736883000-1737061200@elemceeconsultancy.com
SUMMARY:2025 Personal Planning - Cohort 7
DESCRIPTION:Make 2025 YOUR Year of Fulfillment and Success \nAre you ready to lock down your 2025 plans in a sustainable and impactful way? \nThis 3-part Personal Planning Webinar is here to help busy individuals like YOU:\nIDENTIFY your goals and purpose\nPLAN actionable steps to achieve them\nEXECUTE with clarity and confidence \n\nWhat’s included?\nThree 90-minute online sessions\nWorkbooks for hands-on learning\nPractical strategies you can apply immediately\n\nDon’t let 2025 catch you unprepared. Let’s make it YOUR year of direction\, clarity\, and purpose. \nLIMITED SPOTS AVAILABLE – Sign up today!
URL:https://elemceeconsultancy.com/event/2025-personal-planning-cohort-7/
CATEGORIES:Training
ATTACH;FMTTYPE=image/png:https://elemceeconsultancy.com/wp-content/uploads/2025/01/Personal-Planning-Flier-1.png
END:VEVENT
BEGIN:VEVENT
DTSTART;TZID=Europe/Moscow:20250114T150000
DTEND;TZID=Europe/Moscow:20250128T153000
DTSTAMP:20260419T165145
CREATED:20250128T142021Z
LAST-MODIFIED:20250128T142021Z
UID:5033-1736866800-1738078200@elemceeconsultancy.com
SUMMARY:2025 Vision Board Reset Series #tuesdaytalksatthree
DESCRIPTION:Creating a Powerful Personal Vision for 2025\nFocus on aligning personal goals with a broader vision for the year. \nWe have 3 episodes \n´14/1 – Knowing Your Why \n´21/1 – Creating A Clear Vision Statement \n´28/1 – Turning Vision Into Action
URL:https://elemceeconsultancy.com/event/2025-vision-board-reset-series-tuesdaytalksatthree/
CATEGORIES:TuesdayTalksAtThree
ATTACH;FMTTYPE=image/png:https://elemceeconsultancy.com/wp-content/uploads/2025/01/TTT-Jan-poster.png
END:VEVENT
BEGIN:VEVENT
DTSTART;TZID=Europe/Moscow:20241126T190000
DTEND;TZID=Europe/Moscow:20241126T200000
DTSTAMP:20260419T165145
CREATED:20241124T193045Z
LAST-MODIFIED:20241124T193045Z
UID:5010-1732647600-1732651200@elemceeconsultancy.com
SUMMARY:Connections and Family Boundaries - #tuesdaytalksatthree
DESCRIPTION:Are Family Boundaries a Key to Stronger Connections? \nJoin me LIVE as I chat with Coach Jackie Keya (an expert in helping people get unstuck and achieve a great start)\, who will be diving deep into the importance of family boundaries in forming meaningful connections. \nWe will explore: \n✔️Practical tips for setting healthy boundaries that bring us closer together. \nWhether you are navigating family relationships or seeking a way to improve communication\, this session is for YOU! \nDo not miss out—set your reminder now! \nLucy\, Your Clarity Coach. \n#FamilyBoundaries #StrongerConnections \n#RaisingChildren \n#impact
URL:https://elemceeconsultancy.com/event/connections-and-family-boundaries-tuesdaytalksatthree/
LOCATION:IG LIVE @lucy_yourclaritycoach
CATEGORIES:TuesdayTalksAtThree
ATTACH;FMTTYPE=image/png:https://elemceeconsultancy.com/wp-content/uploads/2024/11/TTT-26th-november-1.png
END:VEVENT
BEGIN:VEVENT
DTSTART;TZID=Europe/Moscow:20241119T150000
DTEND;TZID=Europe/Moscow:20241119T153000
DTSTAMP:20260419T165145
CREATED:20241118T102620Z
LAST-MODIFIED:20241118T102620Z
UID:5006-1732028400-1732030200@elemceeconsultancy.com
SUMMARY:Letting Go - #tuesdaytalksatthree
DESCRIPTION:How can parents transform guilt into an opportunity for growth and self-compassion? \nJoin me on #tuesdaytalksatthree to discuss how understanding\, reframing and letting go of parenting guilt is empowering. \nLucy\, Your Clarity Coach \n 
URL:https://elemceeconsultancy.com/event/letting-go-tuesdaytalksatthree/
LOCATION:IG LIVE @lucy_yourclaritycoach
CATEGORIES:TuesdayTalksAtThree
ATTACH;FMTTYPE=image/png:https://elemceeconsultancy.com/wp-content/uploads/2024/11/19th-November.png
END:VEVENT
BEGIN:VEVENT
DTSTART;TZID=Europe/Moscow:20241112T150000
DTEND;TZID=Europe/Moscow:20241112T153000
DTSTAMP:20260419T165145
CREATED:20241110T182437Z
LAST-MODIFIED:20241110T182437Z
UID:4994-1731423600-1731425400@elemceeconsultancy.com
SUMMARY:Mental Wellness - Empowering Family Boundaries
DESCRIPTION:How can modelling boundaries nurture your family’s mental wellness?Join me on #tuesdaytalksatthree to discuss 3 simple tips to enhance the mental wellness of families when setting boundaries.\nLucy\, Your Clarity Coach#lifecoach#raisingchildren#lifeskills#impact#mentalwellness
URL:https://elemceeconsultancy.com/event/mental-wellness-empowering-family-boundaries/
LOCATION:IG LIVE @lucy_yourclaritycoach
CATEGORIES:TuesdayTalksAtThree
ATTACH;FMTTYPE=image/png:https://elemceeconsultancy.com/wp-content/uploads/2024/11/12th-November.png
END:VEVENT
BEGIN:VEVENT
DTSTART;TZID=Europe/Moscow:20241105T150000
DTEND;TZID=Europe/Moscow:20241105T153000
DTSTAMP:20260419T165145
CREATED:20241104T084410Z
LAST-MODIFIED:20241104T084410Z
UID:4985-1730818800-1730820600@elemceeconsultancy.com
SUMMARY:Harmony - Empowered Family Boundaries - #tuesdaytalksatthree
DESCRIPTION:Healthy boundaries foster trust\, security\, and mutual respect\, creating a positive family dynamic where each member knows their limits and responsibilities. \nHow have boundaries fostered healthy relationships in your family? \nJoin me on #tuesdaytalksatthree in breaking down the positive impact of #boundaries in creating family well-being. \n\nLucy\, Your Clarity Coach\n#lifecoach\n#raisingchildren\n#lifeskills\n#impact \n 
URL:https://elemceeconsultancy.com/event/harmony-empowered-family-boundaries-tuesdaytalksatthree/
LOCATION:IG LIVE @lucy_yourclaritycoach
CATEGORIES:TuesdayTalksAtThree
ATTACH;FMTTYPE=image/png:https://elemceeconsultancy.com/wp-content/uploads/2024/11/5th-November.png
END:VEVENT
BEGIN:VEVENT
DTSTART;TZID=Europe/Moscow:20241101T080000
DTEND;TZID=Europe/Moscow:20241130T170000
DTSTAMP:20260419T165145
CREATED:20241104T085731Z
LAST-MODIFIED:20241104T085731Z
UID:4988-1730448000-1732986000@elemceeconsultancy.com
SUMMARY:Black November
DESCRIPTION:Time is the most valuable resource we have. \nThis November\, we are giving 40%off on 3 key programs: \n1. Procrastination Buster – The cause of our not showing up for self. \n2. EnVISION YOU – 3 important things in creating your vision board for 2025 \n3.Personal Planning – Identifying\, Planning and Executing in 2025 \nSend and email to lucy@elemceeconsultancy.com and Grab this offer…….. *Hit the ground running in 2025!* \nLucy\, Your Clarity Coach. \n 
URL:https://elemceeconsultancy.com/event/black-november/
CATEGORIES:Training
ATTACH;FMTTYPE=image/png:https://elemceeconsultancy.com/wp-content/uploads/2024/11/Black-Nov-3-programs.png
END:VEVENT
BEGIN:VEVENT
DTSTART;TZID=Europe/Moscow:20241029T150000
DTEND;TZID=Europe/Moscow:20241029T153000
DTSTAMP:20260419T165145
CREATED:20241027T153555Z
LAST-MODIFIED:20241027T153555Z
UID:4981-1730214000-1730215800@elemceeconsultancy.com
SUMMARY:Expectation - #tuesdaytalksatthree - Intentional Parenting Series
DESCRIPTION:Parents find themselves living vicariously through their children. \nThis has its fair share of pros and cons\, and the question begs: \nHow can parents set realistic expectations that reflect their children’s developmental needs? \nJoin me on #tuesdaytalksatthree and let us unpack the two way street of expectations when it comes to matters raising adult children. \nLucy\, Your Clarity Coach\n#lifecoach\n#raisingchildren\n#lifeskills\n#impact
URL:https://elemceeconsultancy.com/event/expectation-tuesdaytalksatthree-intentional-parenting-series/
LOCATION:IG LIVE @lucy_yourclaritycoach
CATEGORIES:TuesdayTalksAtThree
ATTACH;FMTTYPE=image/png:https://elemceeconsultancy.com/wp-content/uploads/2024/10/6.png
END:VEVENT
BEGIN:VEVENT
DTSTART;TZID=Europe/Moscow:20241028T193000
DTEND;TZID=Europe/Moscow:20241028T210000
DTSTAMP:20260419T165145
CREATED:20241013T161553Z
LAST-MODIFIED:20241013T161553Z
UID:4969-1730143800-1730149200@elemceeconsultancy.com
SUMMARY:CORE Values Course - VIBES
DESCRIPTION:Unlock Your Limitless Potential with V.I.B.E.S\nValues | Intention | Behaviors | Empowerment | Success \n  \nFeeling stuck? Want to create a life that aligns with your values and unleashes your full potential? \nJoin our transformational training designed for Millennials who are ready to move from uncertainty to clarity\, from feeling stuck to limitless growth. \n\n✅ Discover your core values\n✅ Learn actionable steps to align your life\n✅ Join a community of like-minded Millennials\n✅ Walk away with a personalized action plan\n\n  \n“This course changed my life. I finally feel aligned and empowered in my decisions.” – Sarah\, 28
URL:https://elemceeconsultancy.com/event/core-values-course-vibes/
LOCATION:Virtual
CATEGORIES:Training
ATTACH;FMTTYPE=image/png:https://elemceeconsultancy.com/wp-content/uploads/2024/10/Core-Values-1.png
END:VEVENT
BEGIN:VEVENT
DTSTART;TZID=Europe/Moscow:20241022T150000
DTEND;TZID=Europe/Moscow:20241022T153000
DTSTAMP:20260419T165145
CREATED:20241021T091310Z
LAST-MODIFIED:20241021T091310Z
UID:4975-1729609200-1729611000@elemceeconsultancy.com
SUMMARY:#tuesdaytalksatthree - Priorities - Intentional Parenting Series
DESCRIPTION:Seasons come and go\, and with them priorities shift and evolve. \n❓❓When did you last assess your family priorities? \nJoin me on #tuesdaytalksatthree and let us discuss where to start when it comes to adjusting family priorities to stay focused on what matters in raising adult children. \nLucy\, Your Clarity Coach
URL:https://elemceeconsultancy.com/event/tuesdaytalksatthree-priorities-intentional-parenting-series/
LOCATION:IG LIVE @lucy_yourclaritycoach
CATEGORIES:TuesdayTalksAtThree
ATTACH;FMTTYPE=image/png:https://elemceeconsultancy.com/wp-content/uploads/2024/10/5.png
END:VEVENT
BEGIN:VEVENT
DTSTART;TZID=Europe/Moscow:20241015T150000
DTEND;TZID=Europe/Moscow:20241015T153000
DTSTAMP:20260419T165145
CREATED:20241013T160505Z
LAST-MODIFIED:20241013T160505Z
UID:4966-1729004400-1729006200@elemceeconsultancy.com
SUMMARY:Navigation - #tuesdaytalksatthree  - Intentional Parenting Series
DESCRIPTION:Habakkuk 2: 2-3 “Write down the vision; write it clearly on clay tablets so whoever reads it can run to tell others. \nA Vision gives direction and a glimpse into our lives\, helping us realise our goals and purpose. \nHow are you navigating your family vision? \nJoin me on #tuesdaytalksatthree to discuss how small steps count and how flexibility is important\, especially with adult children. \nLucy\, Your Clarity Coach
URL:https://elemceeconsultancy.com/event/navigation-tuesdaytalksatthree-intentional-parenting-series/
LOCATION:IG LIVE @lucy_yourclaritycoach
CATEGORIES:TuesdayTalksAtThree
ATTACH;FMTTYPE=image/png:https://elemceeconsultancy.com/wp-content/uploads/2024/10/4.png
END:VEVENT
BEGIN:VEVENT
DTSTART;TZID=Europe/Moscow:20241008T190000
DTEND;TZID=Europe/Moscow:20241008T200000
DTSTAMP:20260419T165145
CREATED:20241007T085701Z
LAST-MODIFIED:20241007T085701Z
UID:4958-1728414000-1728417600@elemceeconsultancy.com
SUMMARY:World Mental Health Day Edition
DESCRIPTION:In what ways do you think your family traditions impact your mental and emotional well-being? \nJoin me and my guest Alice Njambi – Chairperson of MWAK – Mental Wellness Association of Kenya\, as we talk about Traditions and Mental Wellness. \nLucy\, Your Clarity Coach
URL:https://elemceeconsultancy.com/event/world-mental-health-day-edition/
LOCATION:IG LIVE @lucy_yourclaritycoach
CATEGORIES:TuesdayTalksAtThree
ATTACH;FMTTYPE=image/png:https://elemceeconsultancy.com/wp-content/uploads/2024/10/8th-October.png
END:VEVENT
BEGIN:VEVENT
DTSTART;TZID=Europe/Moscow:20240924T150000
DTEND;TZID=Europe/Moscow:20240924T153000
DTSTAMP:20260419T165145
CREATED:20240922T172347Z
LAST-MODIFIED:20240922T172347Z
UID:4954-1727190000-1727191800@elemceeconsultancy.com
SUMMARY:Practice - #tuesdaytalksatthree - Mindful Parenting
DESCRIPTION:Mahatma Gadhi said: \n🌸Our beliefs become our thoughts\, \n🌸Our thoughts become our words\, \n🌸Our actions become our habits\, \n🌸Our habits become our values\, \n🌸Our values become our destiny. \n  \nAn amazing quote that with intentionality has the power to make positive shifts in every aspect of our lives. ❓How can parents apply these words in their children’s lives? Join me on #tuesdaytalksatthree for 3 solid ways to apply practices that will strengthen the bond between you and your children. Lucy\, Your Clarity Coach #lifecoach #raisingchildren #lifeskills #impact
URL:https://elemceeconsultancy.com/event/practice-tuesdaytalksatthree-mindful-parenting/
LOCATION:IG LIVE @lucy_yourclaritycoach
CATEGORIES:TuesdayTalksAtThree
ATTACH;FMTTYPE=image/png:https://elemceeconsultancy.com/wp-content/uploads/2024/09/24th-September-Practices.png
END:VEVENT
BEGIN:VEVENT
DTSTART;TZID=Europe/Moscow:20240917T150000
DTEND;TZID=Europe/Moscow:20240917T153000
DTSTAMP:20260419T165145
CREATED:20240916T084743Z
LAST-MODIFIED:20240916T084743Z
UID:4950-1726585200-1726587000@elemceeconsultancy.com
SUMMARY:#tuesdaytalksatthree - Mindful Parenting Series
DESCRIPTION:Staying present is a term used often. \n❓How can parents stay present with their children?\nJoin me on #tuesdaytalksatthree for tips on how to stay present with your children.\nLucy\, Your Clarity Coach\n#lifecoach\n#raisingchildren\n#lifeskills\n#impact\n#present
URL:https://elemceeconsultancy.com/event/tuesdaytalksatthree-mindful-parenting-series/
LOCATION:IG LIVE @lucy_yourclaritycoach
CATEGORIES:TuesdayTalksAtThree
ATTACH;FMTTYPE=image/png:https://elemceeconsultancy.com/wp-content/uploads/2024/09/17th-September-Presence.png
END:VEVENT
BEGIN:VEVENT
DTSTART;TZID=Europe/Moscow:20240910T150000
DTEND;TZID=Europe/Moscow:20240910T153000
DTSTAMP:20260419T165145
CREATED:20240910T101233Z
LAST-MODIFIED:20240910T101233Z
UID:4947-1725980400-1725982200@elemceeconsultancy.com
SUMMARY:Mindful Parenting - Awareness - #tuesdaytalksatthtree
DESCRIPTION:Mindful parenting encourages parents to focus on the moment\, respond thoughtfully to challenges\, and communicate with intention. \nHow can parents introduce mindfulness to their children? \nJoin me on #tuesdaytalksatthree for tips on how to model mindfulness as a life skill for your children. \nLucy\, Your Clarity Coach \n#lifecoach \n#raisingchildren \n#lifeskills \n#impact
URL:https://elemceeconsultancy.com/event/mindful-parenting-awareness-tuesdaytalksatthtree/
LOCATION:IG LIVE @lucy_yourclaritycoach
CATEGORIES:TuesdayTalksAtThree
ATTACH;FMTTYPE=image/png:https://elemceeconsultancy.com/wp-content/uploads/2024/09/10th-September-Awareness.png
END:VEVENT
BEGIN:VEVENT
DTSTART;TZID=Europe/Moscow:20240805T130000
DTEND;TZID=Europe/Moscow:20240812T140000
DTSTAMP:20260419T165145
CREATED:20240723T191046Z
LAST-MODIFIED:20240723T191046Z
UID:4938-1722862800-1723471200@elemceeconsultancy.com
SUMMARY:Lady In Waiting
DESCRIPTION:🌟 Empower Your Daughter with the Skills to Shine! 🌟 \nIs your daughter ready to embrace her true self and step into society with confidence? \nOur “Lady In Waiting” program is designed to help pre-teens and teens discover their identity\, purpose\, and core values. \nWhat she will learn:\n1. Who Am I? – Personal Identity\n2. Finding My Purpose – Leveraging Passions\n3. Self Awareness – Core Values\n4. Social Skills – Listening\, Conversing\, and Empathy\n5. A Lady’s Behaviour – Social Etiquette\n6. Work Etiquette – Communication and Teamwork\n7. Social Media Balance – Social Media Etiquette\n8. Attributes and Promises – Showing Up \nJoin us for 8 transformative online sessions and watch your daughter blossom! \n  \nhttps://forms.gle/4v3u28V4wmFSFkPf8
URL:https://elemceeconsultancy.com/event/lady-in-waiting/
LOCATION:Virtual
ATTACH;FMTTYPE=image/png:https://elemceeconsultancy.com/wp-content/uploads/2024/07/Lady-In-Waiting.png
END:VEVENT
BEGIN:VEVENT
DTSTART;TZID=Europe/Moscow:20240728T140000
DTEND;TZID=Europe/Moscow:20240728T170000
DTSTAMP:20260419T165145
CREATED:20240723T191854Z
LAST-MODIFIED:20240723T191854Z
UID:4941-1722175200-1722186000@elemceeconsultancy.com
SUMMARY:My Sister's Keeper
DESCRIPTION:I am my sister’s keeper \nI will build my sister up \nencourage her\, empower her \nand pray for her. \n  \nI have no reason to talk about her\, \ntear her down\, be jealous of her\, or to compete with her. \nI am going to stand behind her and help push her into her destiny.
URL:https://elemceeconsultancy.com/event/my-sisters-keeper/
LOCATION:St Barnabas Church Otiende\, Kenya
CATEGORIES:Event
ATTACH;FMTTYPE=image/png:https://elemceeconsultancy.com/wp-content/uploads/2024/07/Mount-Horeb-Ladies-Fellowship.png
END:VEVENT
BEGIN:VEVENT
DTSTART;TZID=Europe/Moscow:20240727T140000
DTEND;TZID=Europe/Moscow:20240727T170000
DTSTAMP:20260419T165145
CREATED:20240723T190755Z
LAST-MODIFIED:20240723T190755Z
UID:4934-1722088800-1722099600@elemceeconsultancy.com
SUMMARY:enVISION YOU
DESCRIPTION:enVISION You is a call to action for women to dream boldly\, define their futures with precision\, and actively work towards the realization of their visions.
URL:https://elemceeconsultancy.com/event/envision-you/
LOCATION:iHiT Work Space Nairobi\, Mbaazi Road\, Nairobi\, 00508\, Kenya
CATEGORIES:Training
ATTACH;FMTTYPE=image/jpeg:https://elemceeconsultancy.com/wp-content/uploads/2024/07/enVISION-You.jpg
END:VEVENT
BEGIN:VEVENT
DTSTART;TZID=Europe/Moscow:20240723T150000
DTEND;TZID=Europe/Moscow:20240723T153000
DTSTAMP:20260419T165145
CREATED:20240723T185457Z
LAST-MODIFIED:20240723T185457Z
UID:4931-1721746800-1721748600@elemceeconsultancy.com
SUMMARY:Procrastination Buster
DESCRIPTION:How do you activate a proactive mindset? \nTomorrow is a place where procrastination lives. \nJoin me on #tuesdaytalksatthree for super tips on how to be present and productive today.
URL:https://elemceeconsultancy.com/event/procrastination-buster/
LOCATION:IG LIVE @lucy_yourclaritycoach
CATEGORIES:TuesdayTalksAtThree
ATTACH;FMTTYPE=image/png:https://elemceeconsultancy.com/wp-content/uploads/2024/07/23rd-July.png
END:VEVENT
BEGIN:VEVENT
DTSTART;TZID=Europe/Moscow:20240716T150000
DTEND;TZID=Europe/Moscow:20240716T153000
DTSTAMP:20260419T165145
CREATED:20240723T185334Z
LAST-MODIFIED:20240723T185334Z
UID:4928-1721142000-1721143800@elemceeconsultancy.com
SUMMARY:Blocking Time for Productivity
DESCRIPTION:What one tool helps you to improve productivity and focus? \nJoin me on #tuesdaytalksatthree for one tried and tested tool that will get you allocating your time in a practical way.
URL:https://elemceeconsultancy.com/event/blocking-time-for-productivity/
LOCATION:IG LIVE @lucy_yourclaritycoach
CATEGORIES:TuesdayTalksAtThree
ATTACH;FMTTYPE=image/png:https://elemceeconsultancy.com/wp-content/uploads/2024/07/16th-July-.png
END:VEVENT
BEGIN:VEVENT
DTSTART;TZID=Europe/Moscow:20240626T150000
DTEND;TZID=Europe/Moscow:20240626T153000
DTSTAMP:20260419T165145
CREATED:20240626T183500Z
LAST-MODIFIED:20240626T183500Z
UID:4921-1719414000-1719415800@elemceeconsultancy.com
SUMMARY:Who Must Go!!! - #tuesdaytalksatthree
DESCRIPTION:How can you practically overcome deadlocks in negotiations? \nJoin me on #tuesdaytalksatthree as bring the Negotiation Mastery Series to a close \nLucy\, Your Clarity Coach
URL:https://elemceeconsultancy.com/event/who-must-go-tuesdaytalksatthree/
LOCATION:IG LIVE @lucy_yourclaritycoach
CATEGORIES:TuesdayTalksAtThree
ATTACH;FMTTYPE=image/png:https://elemceeconsultancy.com/wp-content/uploads/2024/06/25th-June-Win-Win.png
END:VEVENT
BEGIN:VEVENT
DTSTART;TZID=Europe/Moscow:20240618T150000
DTEND;TZID=Europe/Moscow:20240618T153000
DTSTAMP:20260419T165145
CREATED:20240626T183749Z
LAST-MODIFIED:20240626T183749Z
UID:4924-1718722800-1718724600@elemceeconsultancy.com
SUMMARY:Assertiveness - #tuesdaytalksatthree
DESCRIPTION:What does assertiveness look like for you? \nAssertiveness in negotiation ensures that your needs and boundaries are respected while maintaining a respectful and collaborative atmosphere. \nJoin me on #tuesdaytalksatthree as we unpack 3 ways to assert oneself at the negotiation table. \nLucy\, Your Clarity Coach
URL:https://elemceeconsultancy.com/event/assertiveness-tuesdaytalksatthree/
LOCATION:IG LIVE @lucy_yourclaritycoach
CATEGORIES:TuesdayTalksAtThree
ATTACH;FMTTYPE=image/png:https://elemceeconsultancy.com/wp-content/uploads/2024/06/18th-June-Assertive-Self.png
END:VEVENT
BEGIN:VEVENT
DTSTART;TZID=Europe/Moscow:20240611T150000
DTEND;TZID=Europe/Moscow:20240611T153000
DTSTAMP:20260419T165145
CREATED:20240611T125501Z
LAST-MODIFIED:20240611T125501Z
UID:4915-1718118000-1718119800@elemceeconsultancy.com
SUMMARY:The Power Of Influence - Negotiation Mastery Series
DESCRIPTION:How have you applied influence at a #negotiation table? \n📌Identifying underlying interests transforms conflicts from adversarial stand-offs into collaborative #problem-solving opportunities\, fostering #sustainable #resolutions. \nJoin me  as we consider the various ways to apply #influence for positive #outcomes.
URL:https://elemceeconsultancy.com/event/the-power-of-influence-negotiation-mastery-series/
LOCATION:IG LIVE @lucy_yourclaritycoach
CATEGORIES:TuesdayTalksAtThree
ATTACH;FMTTYPE=image/png:https://elemceeconsultancy.com/wp-content/uploads/2024/06/11th-June-The-Power-Of-Influence.png
END:VEVENT
BEGIN:VEVENT
DTSTART;TZID=Europe/Moscow:20240521T150000
DTEND;TZID=Europe/Moscow:20240521T153000
DTSTAMP:20260419T165145
CREATED:20240527T180710Z
LAST-MODIFIED:20240527T180710Z
UID:4896-1716303600-1716305400@elemceeconsultancy.com
SUMMARY:Challenges - #tuesdaytalksatthree - Adaptability and Change Management Series
DESCRIPTION:We often find ourselves trying to adapt to change\, however we find it challenging to change direction quickly\, and this is because we are attached to our plans and find letting go hard. \nJoin me on #tuesdaytalksatthree for 3 tried and tested skills to help you pivot in the face of change.
URL:https://elemceeconsultancy.com/event/challenges-tuesdaytalksatthree-adaptability-and-change-management-series/
LOCATION:IG LIVE @lucy_yourclaritycoach
CATEGORIES:TuesdayTalksAtThree
ATTACH;FMTTYPE=image/png:https://elemceeconsultancy.com/wp-content/uploads/2024/05/21st-May-Challenges.png
END:VEVENT
BEGIN:VEVENT
DTSTART;TZID=Europe/Moscow:20240518T100000
DTEND;TZID=Europe/Moscow:20240518T123000
DTSTAMP:20260419T165145
CREATED:20240527T180621Z
LAST-MODIFIED:20240527T180621Z
UID:4840-1716026400-1716035400@elemceeconsultancy.com
SUMMARY:Unmasking Imposter Syndrome
DESCRIPTION:Are you ready to break free from self doubt and step into your authentic power? \nThen this session is for you.
URL:https://elemceeconsultancy.com/event/unmasking-imposter-syndrome/
CATEGORIES:Webinar
ATTACH;FMTTYPE=image/jpeg:https://elemceeconsultancy.com/wp-content/uploads/2024/05/Flier-1.jpg
END:VEVENT
BEGIN:VEVENT
DTSTART;TZID=Europe/Moscow:20240514T150000
DTEND;TZID=Europe/Moscow:20240514T153000
DTSTAMP:20260419T165145
CREATED:20240527T180747Z
LAST-MODIFIED:20240527T180747Z
UID:4892-1715698800-1715700600@elemceeconsultancy.com
SUMMARY:#tuesdaytalksatthree - UNCERTAINTY
DESCRIPTION:In navigating change and uncertainty\, what essential strategies have you applied?\n\nJoin me on this episode of  #tuesaytalksatthree and let us explore 3 fundamental strategies to maintain #stability and #adaptability in your personal and professional life.\n\nLucy\, Your Clarity Coach\n#changemanagement\n#growthmindset\n#selfimprovement
URL:https://elemceeconsultancy.com/event/tuesdaytalksatthree-uncertainty/
CATEGORIES:TuesdayTalksAtThree
ATTACH;FMTTYPE=image/png:https://elemceeconsultancy.com/wp-content/uploads/2024/05/14th-May-Uncertainty.png
END:VEVENT
BEGIN:VEVENT
DTSTART;TZID=Europe/Moscow:20240507T150000
DTEND;TZID=Europe/Moscow:20240507T153000
DTSTAMP:20260419T165145
CREATED:20240527T180823Z
LAST-MODIFIED:20240527T180823Z
UID:4847-1715094000-1715095800@elemceeconsultancy.com
SUMMARY:#tuesdaytalksatthree  - Adaptability and Change Management  Series - MINDSET
DESCRIPTION:Are there any beliefs or assumptions you hold about yourself or your abilities that might be limiting your growth? \n\nI do not have what it takes.\nI need more time.\nThe finances are not enough\n\nHow can you challenge these and adopt a more open mindset? \nShift Your Perspective: View challenges as opportunities for growth rather than obstacles to overcome.
URL:https://elemceeconsultancy.com/event/tuesdaytalksatthree-adaptability-and-change-management-series-mindset/
CATEGORIES:TuesdayTalksAtThree
ATTACH;FMTTYPE=image/png:https://elemceeconsultancy.com/wp-content/uploads/2024/05/7th-May-Mindset.png
END:VEVENT
END:VCALENDAR