BEGIN:VCALENDAR
VERSION:2.0
PRODID:-//Elemcee Consultancy - ECPv6.5.1.3//NONSGML v1.0//EN
CALSCALE:GREGORIAN
METHOD:PUBLISH
X-WR-CALNAME:Elemcee Consultancy
X-ORIGINAL-URL:https://elemceeconsultancy.com
X-WR-CALDESC:Events for Elemcee Consultancy
REFRESH-INTERVAL;VALUE=DURATION:PT1H
X-Robots-Tag:noindex
X-PUBLISHED-TTL:PT1H
BEGIN:VTIMEZONE
TZID:Europe/Moscow
BEGIN:STANDARD
TZOFFSETFROM:+0300
TZOFFSETTO:+0300
TZNAME:MSK
DTSTART:20240101T000000
END:STANDARD
END:VTIMEZONE
BEGIN:VEVENT
DTSTART;TZID=Europe/Moscow:20241119T150000
DTEND;TZID=Europe/Moscow:20241119T153000
DTSTAMP:20260419T232930
CREATED:20241118T102620Z
LAST-MODIFIED:20241118T102620Z
UID:5006-1732028400-1732030200@elemceeconsultancy.com
SUMMARY:Letting Go - #tuesdaytalksatthree
DESCRIPTION:How can parents transform guilt into an opportunity for growth and self-compassion? \nJoin me on #tuesdaytalksatthree to discuss how understanding\, reframing and letting go of parenting guilt is empowering. \nLucy\, Your Clarity Coach \n 
URL:https://elemceeconsultancy.com/event/letting-go-tuesdaytalksatthree/
LOCATION:IG LIVE @lucy_yourclaritycoach
CATEGORIES:TuesdayTalksAtThree
ATTACH;FMTTYPE=image/png:https://elemceeconsultancy.com/wp-content/uploads/2024/11/19th-November.png
END:VEVENT
END:VCALENDAR