BEGIN:VCALENDAR
VERSION:2.0
PRODID:-//Elemcee Consultancy - ECPv6.5.1.3//NONSGML v1.0//EN
CALSCALE:GREGORIAN
METHOD:PUBLISH
X-WR-CALNAME:Elemcee Consultancy
X-ORIGINAL-URL:https://elemceeconsultancy.com
X-WR-CALDESC:Events for Elemcee Consultancy
REFRESH-INTERVAL;VALUE=DURATION:PT1H
X-Robots-Tag:noindex
X-PUBLISHED-TTL:PT1H
BEGIN:VTIMEZONE
TZID:Europe/Moscow
BEGIN:STANDARD
TZOFFSETFROM:+0300
TZOFFSETTO:+0300
TZNAME:MSK
DTSTART:20240101T000000
END:STANDARD
END:VTIMEZONE
BEGIN:VEVENT
DTSTART;TZID=Europe/Moscow:20241105T150000
DTEND;TZID=Europe/Moscow:20241105T153000
DTSTAMP:20260419T232931
CREATED:20241104T084410Z
LAST-MODIFIED:20241104T084410Z
UID:4985-1730818800-1730820600@elemceeconsultancy.com
SUMMARY:Harmony - Empowered Family Boundaries - #tuesdaytalksatthree
DESCRIPTION:Healthy boundaries foster trust\, security\, and mutual respect\, creating a positive family dynamic where each member knows their limits and responsibilities. \nHow have boundaries fostered healthy relationships in your family? \nJoin me on #tuesdaytalksatthree in breaking down the positive impact of #boundaries in creating family well-being. \n\nLucy\, Your Clarity Coach\n#lifecoach\n#raisingchildren\n#lifeskills\n#impact \n 
URL:https://elemceeconsultancy.com/event/harmony-empowered-family-boundaries-tuesdaytalksatthree/
LOCATION:IG LIVE @lucy_yourclaritycoach
CATEGORIES:TuesdayTalksAtThree
ATTACH;FMTTYPE=image/png:https://elemceeconsultancy.com/wp-content/uploads/2024/11/5th-November.png
END:VEVENT
END:VCALENDAR