BEGIN:VCALENDAR
VERSION:2.0
PRODID:-//Elemcee Consultancy - ECPv6.5.1.3//NONSGML v1.0//EN
CALSCALE:GREGORIAN
METHOD:PUBLISH
X-ORIGINAL-URL:https://elemceeconsultancy.com
X-WR-CALDESC:Events for Elemcee Consultancy
REFRESH-INTERVAL;VALUE=DURATION:PT1H
X-Robots-Tag:noindex
X-PUBLISHED-TTL:PT1H
BEGIN:VTIMEZONE
TZID:Europe/Moscow
BEGIN:STANDARD
TZOFFSETFROM:+0300
TZOFFSETTO:+0300
TZNAME:MSK
DTSTART:20240101T000000
END:STANDARD
END:VTIMEZONE
BEGIN:VEVENT
DTSTART;TZID=Europe/Moscow:20241008T190000
DTEND;TZID=Europe/Moscow:20241008T200000
DTSTAMP:20260420T010324
CREATED:20241007T085701Z
LAST-MODIFIED:20241007T085701Z
UID:4958-1728414000-1728417600@elemceeconsultancy.com
SUMMARY:World Mental Health Day Edition
DESCRIPTION:In what ways do you think your family traditions impact your mental and emotional well-being? \nJoin me and my guest Alice Njambi – Chairperson of MWAK – Mental Wellness Association of Kenya\, as we talk about Traditions and Mental Wellness. \nLucy\, Your Clarity Coach
URL:https://elemceeconsultancy.com/event/world-mental-health-day-edition/
LOCATION:IG LIVE @lucy_yourclaritycoach
CATEGORIES:TuesdayTalksAtThree
ATTACH;FMTTYPE=image/png:https://elemceeconsultancy.com/wp-content/uploads/2024/10/8th-October.png
END:VEVENT
END:VCALENDAR