BEGIN:VCALENDAR
VERSION:2.0
PRODID:-//Elemcee Consultancy - ECPv6.5.1.3//NONSGML v1.0//EN
CALSCALE:GREGORIAN
METHOD:PUBLISH
X-ORIGINAL-URL:https://elemceeconsultancy.com
X-WR-CALDESC:Events for Elemcee Consultancy
REFRESH-INTERVAL;VALUE=DURATION:PT1H
X-Robots-Tag:noindex
X-PUBLISHED-TTL:PT1H
BEGIN:VTIMEZONE
TZID:Europe/Moscow
BEGIN:STANDARD
TZOFFSETFROM:+0300
TZOFFSETTO:+0300
TZNAME:MSK
DTSTART:20240101T000000
END:STANDARD
END:VTIMEZONE
BEGIN:VEVENT
DTSTART;TZID=Europe/Moscow:20240611T150000
DTEND;TZID=Europe/Moscow:20240611T153000
DTSTAMP:20260423T034153
CREATED:20240611T125501Z
LAST-MODIFIED:20240611T125501Z
UID:4915-1718118000-1718119800@elemceeconsultancy.com
SUMMARY:The Power Of Influence - Negotiation Mastery Series
DESCRIPTION:How have you applied influence at a #negotiation table? \n📌Identifying underlying interests transforms conflicts from adversarial stand-offs into collaborative #problem-solving opportunities\, fostering #sustainable #resolutions. \nJoin me  as we consider the various ways to apply #influence for positive #outcomes.
URL:https://elemceeconsultancy.com/event/the-power-of-influence-negotiation-mastery-series/
LOCATION:IG LIVE @lucy_yourclaritycoach
CATEGORIES:TuesdayTalksAtThree
ATTACH;FMTTYPE=image/png:https://elemceeconsultancy.com/wp-content/uploads/2024/06/11th-June-The-Power-Of-Influence.png
END:VEVENT
END:VCALENDAR