BEGIN:VCALENDAR
VERSION:2.0
PRODID:-//Elemcee Consultancy - ECPv6.5.1.3//NONSGML v1.0//EN
CALSCALE:GREGORIAN
METHOD:PUBLISH
X-WR-CALNAME:Elemcee Consultancy
X-ORIGINAL-URL:https://elemceeconsultancy.com
X-WR-CALDESC:Events for Elemcee Consultancy
REFRESH-INTERVAL;VALUE=DURATION:PT1H
X-Robots-Tag:noindex
X-PUBLISHED-TTL:PT1H
BEGIN:VTIMEZONE
TZID:Europe/Moscow
BEGIN:STANDARD
TZOFFSETFROM:+0300
TZOFFSETTO:+0300
TZNAME:MSK
DTSTART:20240101T000000
END:STANDARD
END:VTIMEZONE
BEGIN:VEVENT
DTSTART;TZID=Europe/Moscow:20240521T150000
DTEND;TZID=Europe/Moscow:20240521T153000
DTSTAMP:20260423T203651
CREATED:20240527T180710Z
LAST-MODIFIED:20240527T180710Z
UID:4896-1716303600-1716305400@elemceeconsultancy.com
SUMMARY:Challenges - #tuesdaytalksatthree - Adaptability and Change Management Series
DESCRIPTION:We often find ourselves trying to adapt to change\, however we find it challenging to change direction quickly\, and this is because we are attached to our plans and find letting go hard. \nJoin me on #tuesdaytalksatthree for 3 tried and tested skills to help you pivot in the face of change.
URL:https://elemceeconsultancy.com/event/challenges-tuesdaytalksatthree-adaptability-and-change-management-series/
LOCATION:IG LIVE @lucy_yourclaritycoach
CATEGORIES:TuesdayTalksAtThree
ATTACH;FMTTYPE=image/png:https://elemceeconsultancy.com/wp-content/uploads/2024/05/21st-May-Challenges.png
END:VEVENT
END:VCALENDAR