BEGIN:VCALENDAR
VERSION:2.0
PRODID:-//Elemcee Consultancy - ECPv6.5.1.3//NONSGML v1.0//EN
CALSCALE:GREGORIAN
METHOD:PUBLISH
X-ORIGINAL-URL:https://elemceeconsultancy.com
X-WR-CALDESC:Events for Elemcee Consultancy
REFRESH-INTERVAL;VALUE=DURATION:PT1H
X-Robots-Tag:noindex
X-PUBLISHED-TTL:PT1H
BEGIN:VTIMEZONE
TZID:Europe/Moscow
BEGIN:STANDARD
TZOFFSETFROM:+0300
TZOFFSETTO:+0300
TZNAME:MSK
DTSTART:20240101T000000
END:STANDARD
END:VTIMEZONE
BEGIN:VEVENT
DTSTART;TZID=Europe/Moscow:20240514T150000
DTEND;TZID=Europe/Moscow:20240514T153000
DTSTAMP:20260423T203733
CREATED:20240527T180747Z
LAST-MODIFIED:20240527T180747Z
UID:4892-1715698800-1715700600@elemceeconsultancy.com
SUMMARY:#tuesdaytalksatthree - UNCERTAINTY
DESCRIPTION:In navigating change and uncertainty\, what essential strategies have you applied?\n\nJoin me on this episode of  #tuesaytalksatthree and let us explore 3 fundamental strategies to maintain #stability and #adaptability in your personal and professional life.\n\nLucy\, Your Clarity Coach\n#changemanagement\n#growthmindset\n#selfimprovement
URL:https://elemceeconsultancy.com/event/tuesdaytalksatthree-uncertainty/
CATEGORIES:TuesdayTalksAtThree
ATTACH;FMTTYPE=image/png:https://elemceeconsultancy.com/wp-content/uploads/2024/05/14th-May-Uncertainty.png
END:VEVENT
END:VCALENDAR