BEGIN:VCALENDAR
VERSION:2.0
PRODID:-//Elemcee Consultancy - ECPv6.5.1.3//NONSGML v1.0//EN
CALSCALE:GREGORIAN
METHOD:PUBLISH
X-ORIGINAL-URL:https://elemceeconsultancy.com
X-WR-CALDESC:Events for Elemcee Consultancy
REFRESH-INTERVAL;VALUE=DURATION:PT1H
X-Robots-Tag:noindex
X-PUBLISHED-TTL:PT1H
BEGIN:VTIMEZONE
TZID:Europe/Moscow
BEGIN:STANDARD
TZOFFSETFROM:+0300
TZOFFSETTO:+0300
TZNAME:MSK
DTSTART:20240101T000000
END:STANDARD
END:VTIMEZONE
BEGIN:VEVENT
DTSTART;TZID=Europe/Moscow:20240109T150000
DTEND;TZID=Europe/Moscow:20240109T153000
DTSTAMP:20260424T013353
CREATED:20240210T062554Z
LAST-MODIFIED:20240210T062554Z
UID:4812-1704812400-1704814200@elemceeconsultancy.com
SUMMARY:Articulating For Impact - #tuesdaytalksatthree
DESCRIPTION:❓What 2024 Goal have you activated? Join me on #tuesdaytalksatthree for tips on #clarity in #goalsetting Lucy\, Your Clarity Coach
URL:https://elemceeconsultancy.com/event/articulating-for-impact-tuesdaytalksatthree/
LOCATION:IG LIVE @lucy_yourclaritycoach
CATEGORIES:TuesdayTalksAtThree
ATTACH;FMTTYPE=image/png:https://elemceeconsultancy.com/wp-content/uploads/2024/02/9th-Jan-Articulating-for-Impact.png
END:VEVENT
END:VCALENDAR