BEGIN:VCALENDAR
VERSION:2.0
PRODID:-//Elemcee Consultancy - ECPv6.5.1.3//NONSGML v1.0//EN
CALSCALE:GREGORIAN
METHOD:PUBLISH
X-ORIGINAL-URL:https://elemceeconsultancy.com
X-WR-CALDESC:Events for Elemcee Consultancy
REFRESH-INTERVAL;VALUE=DURATION:PT1H
X-Robots-Tag:noindex
X-PUBLISHED-TTL:PT1H
BEGIN:VTIMEZONE
TZID:Europe/Moscow
BEGIN:STANDARD
TZOFFSETFROM:+0300
TZOFFSETTO:+0300
TZNAME:MSK
DTSTART:20230101T000000
END:STANDARD
END:VTIMEZONE
BEGIN:VEVENT
DTSTART;TZID=Europe/Moscow:20231010T150000
DTEND;TZID=Europe/Moscow:20231010T153000
DTSTAMP:20260426T000956
CREATED:20231010T055939Z
LAST-MODIFIED:20231010T055939Z
UID:4787-1696950000-1696951800@elemceeconsultancy.com
SUMMARY:Skills Enhancement
DESCRIPTION:Reflecting on the new skills and knowledge you acquired during the year.\nAssessing how these have contributed to your personal and professional growth.\nIdentifying areas where you need further development to create a plan for acquiring those skills in the coming year.  Join us on IG LIVE for this conversation.
URL:https://elemceeconsultancy.com/event/skills-enhancement/
LOCATION:IG LIVE @lucy_yourclaritycoach
CATEGORIES:TuesdayTalksAtThree
ATTACH;FMTTYPE=image/png:https://elemceeconsultancy.com/wp-content/uploads/2023/10/10th-October.png
END:VEVENT
END:VCALENDAR