BEGIN:VCALENDAR
VERSION:2.0
PRODID:-//Elemcee Consultancy - ECPv6.5.1.3//NONSGML v1.0//EN
CALSCALE:GREGORIAN
METHOD:PUBLISH
X-WR-CALNAME:Elemcee Consultancy
X-ORIGINAL-URL:https://elemceeconsultancy.com
X-WR-CALDESC:Events for Elemcee Consultancy
REFRESH-INTERVAL;VALUE=DURATION:PT1H
X-Robots-Tag:noindex
X-PUBLISHED-TTL:PT1H
BEGIN:VTIMEZONE
TZID:Europe/Moscow
BEGIN:STANDARD
TZOFFSETFROM:+0300
TZOFFSETTO:+0300
TZNAME:MSK
DTSTART:20240101T000000
END:STANDARD
END:VTIMEZONE
BEGIN:VEVENT
DTSTART;TZID=Europe/Moscow:20240910T150000
DTEND;TZID=Europe/Moscow:20240910T153000
DTSTAMP:20260420T005415
CREATED:20240910T101233Z
LAST-MODIFIED:20240910T101233Z
UID:4947-1725980400-1725982200@elemceeconsultancy.com
SUMMARY:Mindful Parenting - Awareness - #tuesdaytalksatthtree
DESCRIPTION:Mindful parenting encourages parents to focus on the moment\, respond thoughtfully to challenges\, and communicate with intention. \nHow can parents introduce mindfulness to their children? \nJoin me on #tuesdaytalksatthree for tips on how to model mindfulness as a life skill for your children. \nLucy\, Your Clarity Coach \n#lifecoach \n#raisingchildren \n#lifeskills \n#impact
URL:https://elemceeconsultancy.com/event/mindful-parenting-awareness-tuesdaytalksatthtree/
LOCATION:IG LIVE @lucy_yourclaritycoach
CATEGORIES:TuesdayTalksAtThree
ATTACH;FMTTYPE=image/png:https://elemceeconsultancy.com/wp-content/uploads/2024/09/10th-September-Awareness.png
END:VEVENT
BEGIN:VEVENT
DTSTART;TZID=Europe/Moscow:20240917T150000
DTEND;TZID=Europe/Moscow:20240917T153000
DTSTAMP:20260420T005415
CREATED:20240916T084743Z
LAST-MODIFIED:20240916T084743Z
UID:4950-1726585200-1726587000@elemceeconsultancy.com
SUMMARY:#tuesdaytalksatthree - Mindful Parenting Series
DESCRIPTION:Staying present is a term used often. \n❓How can parents stay present with their children?\nJoin me on #tuesdaytalksatthree for tips on how to stay present with your children.\nLucy\, Your Clarity Coach\n#lifecoach\n#raisingchildren\n#lifeskills\n#impact\n#present
URL:https://elemceeconsultancy.com/event/tuesdaytalksatthree-mindful-parenting-series/
LOCATION:IG LIVE @lucy_yourclaritycoach
CATEGORIES:TuesdayTalksAtThree
ATTACH;FMTTYPE=image/png:https://elemceeconsultancy.com/wp-content/uploads/2024/09/17th-September-Presence.png
END:VEVENT
BEGIN:VEVENT
DTSTART;TZID=Europe/Moscow:20240924T150000
DTEND;TZID=Europe/Moscow:20240924T153000
DTSTAMP:20260420T005415
CREATED:20240922T172347Z
LAST-MODIFIED:20240922T172347Z
UID:4954-1727190000-1727191800@elemceeconsultancy.com
SUMMARY:Practice - #tuesdaytalksatthree - Mindful Parenting
DESCRIPTION:Mahatma Gadhi said: \n🌸Our beliefs become our thoughts\, \n🌸Our thoughts become our words\, \n🌸Our actions become our habits\, \n🌸Our habits become our values\, \n🌸Our values become our destiny. \n  \nAn amazing quote that with intentionality has the power to make positive shifts in every aspect of our lives. ❓How can parents apply these words in their children’s lives? Join me on #tuesdaytalksatthree for 3 solid ways to apply practices that will strengthen the bond between you and your children. Lucy\, Your Clarity Coach #lifecoach #raisingchildren #lifeskills #impact
URL:https://elemceeconsultancy.com/event/practice-tuesdaytalksatthree-mindful-parenting/
LOCATION:IG LIVE @lucy_yourclaritycoach
CATEGORIES:TuesdayTalksAtThree
ATTACH;FMTTYPE=image/png:https://elemceeconsultancy.com/wp-content/uploads/2024/09/24th-September-Practices.png
END:VEVENT
END:VCALENDAR