BEGIN:VCALENDAR
VERSION:2.0
PRODID:-//Elemcee Consultancy - ECPv6.5.1.3//NONSGML v1.0//EN
CALSCALE:GREGORIAN
METHOD:PUBLISH
X-ORIGINAL-URL:https://elemceeconsultancy.com
X-WR-CALDESC:Events for Elemcee Consultancy
REFRESH-INTERVAL;VALUE=DURATION:PT1H
X-Robots-Tag:noindex
X-PUBLISHED-TTL:PT1H
BEGIN:VTIMEZONE
TZID:Europe/Moscow
BEGIN:STANDARD
TZOFFSETFROM:+0300
TZOFFSETTO:+0300
TZNAME:MSK
DTSTART:20240101T000000
END:STANDARD
END:VTIMEZONE
BEGIN:VEVENT
DTSTART;TZID=Europe/Moscow:20240206T150000
DTEND;TZID=Europe/Moscow:20240206T153000
DTSTAMP:20260423T231500
CREATED:20240210T064004Z
LAST-MODIFIED:20240210T064004Z
UID:4824-1707231600-1707233400@elemceeconsultancy.com
SUMMARY:Personal Triggers
DESCRIPTION:Procrastination IS NOT just about poor time management. \n📌Let us start by looking inward. \nJoin me on #tuesdaytalksatthree for Episode 1 of the Procrastination Intervention Series\, and let us explore how to identify personal triggers.
URL:https://elemceeconsultancy.com/event/personal-triggers/
LOCATION:IG LIVE @lucy_yourclaritycoach
CATEGORIES:TuesdayTalksAtThree
ATTACH;FMTTYPE=image/png:https://elemceeconsultancy.com/wp-content/uploads/2024/02/6th-Feb-Personal-Triggers.png
END:VEVENT
BEGIN:VEVENT
DTSTART;TZID=Europe/Moscow:20240220T150000
DTEND;TZID=Europe/Moscow:20240220T153000
DTSTAMP:20260423T231500
CREATED:20240220T132737Z
LAST-MODIFIED:20240220T132737Z
UID:4832-1708441200-1708443000@elemceeconsultancy.com
SUMMARY:Enhancing Focus - Procrastination Intervention - #tuesdaytalksatthree
DESCRIPTION:What habits do you wish you had when it comes to getting your goals in motion? \nJoin me on #tuesdaytalksatthree for Episode 3 of the Procrastination Intervention Series\, and let us look at 3 areas of interest when it comes to developing habits to enhance focus\, discipline\, and motivation. \nLucy\, Your Clarity Coach
URL:https://elemceeconsultancy.com/event/enhancing-focus-procrastination-intervention-tuesdaytalksatthree/
CATEGORIES:TuesdayTalksAtThree
ATTACH;FMTTYPE=image/png:https://elemceeconsultancy.com/wp-content/uploads/2024/02/20th-Feb-Enhanced-Focus.png
END:VEVENT
BEGIN:VEVENT
DTSTART;TZID=Europe/Moscow:20240227T150000
DTEND;TZID=Europe/Moscow:20240227T153000
DTSTAMP:20260423T231500
CREATED:20240227T120029Z
LAST-MODIFIED:20240227T120029Z
UID:4835-1709046000-1709047800@elemceeconsultancy.com
SUMMARY:Cultivated Mindset - Procrastination Intervention
DESCRIPTION:How often do you catch yourself doubting your abilities? \nIt is time to flip the script. \nJoin me on #tuesdaytalksatthree for Episode 4 of the Procrastination Intervention Series\, and let us look at 3 viable ways to cultivate a growth mindset.
URL:https://elemceeconsultancy.com/event/cultivated-mindset-procrastination-intervention/
LOCATION:IG LIVE @lucy_yourclaritycoach
CATEGORIES:TuesdayTalksAtThree
ATTACH;FMTTYPE=image/png:https://elemceeconsultancy.com/wp-content/uploads/2024/02/27th-February-Cultivated-Mindset.png
END:VEVENT
END:VCALENDAR