BEGIN:VCALENDAR
VERSION:2.0
PRODID:-//Elemcee Consultancy - ECPv6.5.1.3//NONSGML v1.0//EN
CALSCALE:GREGORIAN
METHOD:PUBLISH
X-WR-CALNAME:Elemcee Consultancy
X-ORIGINAL-URL:https://elemceeconsultancy.com
X-WR-CALDESC:Events for Elemcee Consultancy
REFRESH-INTERVAL;VALUE=DURATION:PT1H
X-Robots-Tag:noindex
X-PUBLISHED-TTL:PT1H
BEGIN:VTIMEZONE
TZID:Europe/Moscow
BEGIN:STANDARD
TZOFFSETFROM:+0300
TZOFFSETTO:+0300
TZNAME:MSK
DTSTART:20240101T000000
END:STANDARD
END:VTIMEZONE
BEGIN:VEVENT
DTSTART;TZID=Europe/Moscow:20240109T150000
DTEND;TZID=Europe/Moscow:20240109T153000
DTSTAMP:20260424T001905
CREATED:20240210T062554Z
LAST-MODIFIED:20240210T062554Z
UID:4812-1704812400-1704814200@elemceeconsultancy.com
SUMMARY:Articulating For Impact - #tuesdaytalksatthree
DESCRIPTION:❓What 2024 Goal have you activated? Join me on #tuesdaytalksatthree for tips on #clarity in #goalsetting Lucy\, Your Clarity Coach
URL:https://elemceeconsultancy.com/event/articulating-for-impact-tuesdaytalksatthree/
LOCATION:IG LIVE @lucy_yourclaritycoach
CATEGORIES:TuesdayTalksAtThree
ATTACH;FMTTYPE=image/png:https://elemceeconsultancy.com/wp-content/uploads/2024/02/9th-Jan-Articulating-for-Impact.png
END:VEVENT
BEGIN:VEVENT
DTSTART;TZID=Europe/Moscow:20240116T150000
DTEND;TZID=Europe/Moscow:20240116T153000
DTSTAMP:20260424T001905
CREATED:20240210T062853Z
LAST-MODIFIED:20240210T062853Z
UID:4815-1705417200-1705419000@elemceeconsultancy.com
SUMMARY:Aligning Life's Objectives
DESCRIPTION:How have you catered for what truly matters in your life in 2024? \nPrioritizing goals based on personal values and current life phases helps in focusing on what truly matters. \nJoin me on #tuesdaytalksatthree for Episode 2 of the Realistic Goal Setting Series\, and let us explore how to work with the unpredictable life that we live in.
URL:https://elemceeconsultancy.com/event/aligning-lifes-objectives/
LOCATION:IG LIVE @lucy_yourclaritycoach
CATEGORIES:TuesdayTalksAtThree
ATTACH;FMTTYPE=image/png:https://elemceeconsultancy.com/wp-content/uploads/2024/02/16th-Jan-Aligning-Life-Objectives.png
END:VEVENT
BEGIN:VEVENT
DTSTART;TZID=Europe/Moscow:20240123T150000
DTEND;TZID=Europe/Moscow:20240123T153000
DTSTAMP:20260424T001905
CREATED:20240210T063302Z
LAST-MODIFIED:20240210T063302Z
UID:4818-1706022000-1706023800@elemceeconsultancy.com
SUMMARY:Effective Goal Tracking
DESCRIPTION:What one tool do you know for effective self-reflection of goals? \n📌Did you know that you are 42% more likely to achieve your goals if you review them often? \nRegular reflection and adjustment\, keeps goals relevant and achievable. \nJoin me on #tuesdaytalksatthree for Episode 3 of the Realistic Goal Setting Series\, and let us explore 3 simple ways to effectively track your goals.
URL:https://elemceeconsultancy.com/event/effective-goal-tracking/
LOCATION:IG LIVE @lucy_yourclaritycoach
CATEGORIES:TuesdayTalksAtThree
ATTACH;FMTTYPE=image/png:https://elemceeconsultancy.com/wp-content/uploads/2024/02/23rd-Jan-Cultivating-Effective-Goal-Tracking.png
END:VEVENT
BEGIN:VEVENT
DTSTART;TZID=Europe/Moscow:20240130T150000
DTEND;TZID=Europe/Moscow:20240130T153000
DTSTAMP:20260424T001905
CREATED:20240210T063611Z
LAST-MODIFIED:20240210T063611Z
UID:4821-1706626800-1706628600@elemceeconsultancy.com
SUMMARY:Adapting to Priorities
DESCRIPTION:How prepared are you for change from fixed to a growth mindset? \nAccording to Carol Dweck\, one of the world’s leading researchers on motivation and mindsets\, only 40 percent of people have a growth mindset. \nThis means that the other 60 percent of people do not hold the qualities of a growth mindset and\, therefore\, are not likely to succeed. \nJoin me on #tuesdaytalksatthree for Episode 4 of the Realistic Goal Setting Series\, and let us explore ways to prepare for change and adapting to priorities through the power of a growth #mindset
URL:https://elemceeconsultancy.com/event/adapting-to-priorities/
LOCATION:IG LIVE @lucy_yourclaritycoach
CATEGORIES:TuesdayTalksAtThree
ATTACH;FMTTYPE=image/png:https://elemceeconsultancy.com/wp-content/uploads/2024/02/16th-Jan-Aligning-Life-Objectives.png
END:VEVENT
END:VCALENDAR