BEGIN:VCALENDAR
VERSION:2.0
PRODID:-//Elemcee Consultancy - ECPv6.5.1.3//NONSGML v1.0//EN
CALSCALE:GREGORIAN
METHOD:PUBLISH
X-WR-CALNAME:Elemcee Consultancy
X-ORIGINAL-URL:https://elemceeconsultancy.com
X-WR-CALDESC:Events for Elemcee Consultancy
REFRESH-INTERVAL;VALUE=DURATION:PT1H
X-Robots-Tag:noindex
X-PUBLISHED-TTL:PT1H
BEGIN:VTIMEZONE
TZID:Europe/Moscow
BEGIN:STANDARD
TZOFFSETFROM:+0300
TZOFFSETTO:+0300
TZNAME:MSK
DTSTART:20230101T000000
END:STANDARD
END:VTIMEZONE
BEGIN:VEVENT
DTSTART;TZID=Europe/Moscow:20231107T190000
DTEND;TZID=Europe/Moscow:20231107T193000
DTSTAMP:20260424T024216
CREATED:20231107T164544Z
LAST-MODIFIED:20231107T164544Z
UID:4798-1699383600-1699385400@elemceeconsultancy.com
SUMMARY:Resolutions Vs Values
DESCRIPTION:Think through a resolution for sustainability. \n1.Identifying your core values \n2.Honour Your Passion \n3.Integrate 1 and 2 for a realistic and achievable resolution \n  \nEmbark on a journey of self-discovery to understand your values\, passions\, and purpose. \nEnsure your resolutions align with your core values\, as this alignment will fuel your motivation.
URL:https://elemceeconsultancy.com/event/resolutions-vs-values/
LOCATION:IG LIVE @lucy_yourclaritycoach
CATEGORIES:TuesdayTalksAtThree
ATTACH;FMTTYPE=image/png:https://elemceeconsultancy.com/wp-content/uploads/2023/11/7th-November.png
END:VEVENT
BEGIN:VEVENT
DTSTART;TZID=Europe/Moscow:20231114T150000
DTEND;TZID=Europe/Moscow:20231114T153000
DTSTAMP:20260424T024216
CREATED:20231113T053756Z
LAST-MODIFIED:20231113T053756Z
UID:4801-1699974000-1699975800@elemceeconsultancy.com
SUMMARY:Mindset vs Compassion
DESCRIPTION:Step 2 – Getting Ready for 2024 \nPositive Mindset and Self-Compassion: \n\nCultivate a positive and growth-oriented mindset\, embracing challenges as opportunities for growth.\nPractice self-compassion by being understanding and forgiving toward yourself\, especially during setbacks.\n\n  \nJoin me on IG LIVE for tips on how to be forgiving and gracious to yourself and to keep moving forward. \n 
URL:https://elemceeconsultancy.com/event/mindset-vs-compassion/
LOCATION:IG LIVE @lucy_yourclaritycoach
CATEGORIES:TuesdayTalksAtThree
ATTACH;FMTTYPE=image/png:https://elemceeconsultancy.com/wp-content/uploads/2023/11/14th-November-.png
END:VEVENT
BEGIN:VEVENT
DTSTART;TZID=Europe/Moscow:20231121T150000
DTEND;TZID=Europe/Moscow:20231121T153000
DTSTAMP:20260424T024216
CREATED:20231120T202221Z
LAST-MODIFIED:20231120T202221Z
UID:4808-1700578800-1700580600@elemceeconsultancy.com
SUMMARY:Relationships vs Connections
DESCRIPTION:Investing in developing your emotional intelligence is crucial for navigating relationships and fostering connections.\nJoin me on #tuesdaytalksatthree for 3 proven tips that will help you make this synergy work.
URL:https://elemceeconsultancy.com/event/relationships-vs-connections/
CATEGORIES:TuesdayTalksAtThree
ATTACH;FMTTYPE=image/png:https://elemceeconsultancy.com/wp-content/uploads/2023/11/21st-November.png
END:VEVENT
END:VCALENDAR